BEGIN:VCALENDAR
VERSION:2.0
CREATED:20260417T184232Z
PRODID:-//Black Rifle Coffee Company/Equisolve Calendar v1.0//EN
METHOD:PUBLISH
BEGIN:VEVENT
UID:77e4d07528835720e9ae9d5b4a948ed7
DTSTAMP:20260420T151906Z
DTSTART:20260505T123000Z
DTEND:20260505T133000Z
SUMMARY:Black Rifle Coffee First Quarter 2026 Earnings Call
DESCRIPTION:Black Rifle Coffee First Quarter 2026 Earnings Call
Date: May 5\, 2026 8:30 am EDT
Webcast: https://event.choruscall.com/mediaframe/webcast.html?webcastid=2JU1oT1c
END:VEVENT
END:VCALENDAR
